BEGIN:VCALENDAR
VERSION:2.0
PRODID:-//Plone.org//NONSGML plone.app.event//EN
X-WR-TIMEZONE:Europe/Madrid
BEGIN:VEVENT
SUMMARY:42. Conciertos de verano
DTSTART;TZID=Europe/Madrid:20250828T200000
DTEND;TZID=Europe/Madrid:20250828T213000
DTSTAMP:20260421T091204Z
UID:abe8d3db988749d9b3b9f17288cb6dab@backend:8080
CREATED:20250809T111753Z
LAST-MODIFIED:20250809T111950Z
LOCATION:Iglesia Santa Maria
URL:http://backend:8080/Plone/es/actualidad/agenda/42-conciertos-de-verano
 -2
END:VEVENT
BEGIN:VTIMEZONE
TZID:Europe/Madrid
X-LIC-LOCATION:Europe/Madrid
BEGIN:DAYLIGHT
DTSTART:20250330T030000
TZNAME:CEST
TZOFFSETFROM:+0100
TZOFFSETTO:+0200
END:DAYLIGHT
END:VTIMEZONE
END:VCALENDAR
