BEGIN:VCALENDAR
VERSION:2.0
PRODID:-//Plone.org//NONSGML plone.app.event//EN
X-WR-TIMEZONE:Europe/Madrid
BEGIN:VEVENT
SUMMARY:Baloncesto: Debasket
DTSTART;VALUE=DATE:20260425
DTEND;VALUE=DATE:20260427
DTSTAMP:20260423T164336Z
UID:f2e3297cb69d4f73b572121411fac154@backend:8080
CONTACT:Debasket Saskibaloi Kluba\, https://www.debasket.eus/
CREATED:20260423T094527Z
LAST-MODIFIED:20260423T094533Z
LOCATION:Polideportivo municipal Deba
URL:http://backend:8080/Plone/es/actualidad/agenda/baloncesto-debasket-177
 6937528.0692644
END:VEVENT
END:VCALENDAR
