BEGIN:VCALENDAR
VERSION:2.0
PRODID:-//Plone.org//NONSGML plone.app.event//EN
X-WR-TIMEZONE:Europe/Madrid
BEGIN:VEVENT
SUMMARY:Charla: aventuras de unos arqueo-exploradores por Debabarrena
DTSTART;TZID=Etc/GMT-1:20181122T190000
DTEND;TZID=Etc/GMT-1:20181122T200000
DTSTAMP:20260421T104105Z
UID:c4e6daa148e54889ab87d108e91fc509@backend:8080
ATTENDEE;CN="Juan Mari Arruabarrena";ROLE=REQ-PARTICIPANT:Juan Mari Arruab
 arrena
CREATED:20211217T131934Z
DESCRIPTION:I. Jornadas sobre Prehistoria de Debabarrena
LAST-MODIFIED:20221219T094143Z
URL:http://backend:8080/Plone/es/actualidad/agenda/charla-aventuras-de-uno
 s-arqueo-exploradores-por-debabarrena
END:VEVENT
END:VCALENDAR
