BEGIN:VCALENDAR
VERSION:2.0
PRODID:-//Plone.org//NONSGML plone.app.event//EN
X-WR-TIMEZONE:Europe/Madrid
BEGIN:VEVENT
SUMMARY:CINE: Licorize pizza
DTSTART;TZID=Etc/GMT-2:20221016T190000
DTEND;TZID=Etc/GMT-2:20221016T203000
DTSTAMP:20260421T090916Z
UID:ddcbd5cb83264af0820d4ce229fdf07c@backend:8080
CREATED:20221219T094301Z
LAST-MODIFIED:20221219T094301Z
URL:http://backend:8080/Plone/es/actualidad/agenda/cine-licorize-pizza
END:VEVENT
END:VCALENDAR
