BEGIN:VCALENDAR
VERSION:2.0
PRODID:-//Plone.org//NONSGML plone.app.event//EN
X-WR-TIMEZONE:Europe/Madrid
BEGIN:VEVENT
SUMMARY:Concierto de Jazz: Roberto Nieva Quartet
DTSTART;TZID=Europe/Madrid:20240720T200000
DTEND;TZID=Europe/Madrid:20240720T213000
DTSTAMP:20260420T154741Z
UID:2a9969622ffb4d499bb16e6238deac20@backend:8080
CONTACT:http://www.labur.eus/guregiro2024
CREATED:20240627T114641Z
LAST-MODIFIED:20240717T094822Z
LOCATION:Kultur elkartea
URL:http://backend:8080/Plone/es/actualidad/agenda/concierto-de-jazz-rober
 to-nieva-quartet
END:VEVENT
BEGIN:VTIMEZONE
TZID:Europe/Madrid
X-LIC-LOCATION:Europe/Madrid
BEGIN:DAYLIGHT
DTSTART:20240331T030000
TZNAME:CEST
TZOFFSETFROM:+0100
TZOFFSETTO:+0200
END:DAYLIGHT
END:VTIMEZONE
END:VCALENDAR
