BEGIN:VCALENDAR
VERSION:2.0
PRODID:-//Plone.org//NONSGML plone.app.event//EN
X-WR-TIMEZONE:Europe/Madrid
BEGIN:VEVENT
SUMMARY:Concierto Internacional de ÓRGANO Flysch
DTSTART;TZID=Etc/GMT-2:20220716T200000
DTEND;TZID=Etc/GMT-2:20220716T213000
DTSTAMP:20260421T085552Z
UID:1c66da48448c4fec9bd5dd787c1f01e2@backend:8080
CREATED:20221219T094252Z
DESCRIPTION:SANTIAGO BANDA y ANA B. GARCIA
LAST-MODIFIED:20221219T094252Z
LOCATION:Iglesia de Santa María
URL:http://backend:8080/Plone/es/actualidad/agenda/concierto-internacional
 -de-organo-flysch
END:VEVENT
END:VCALENDAR
