BEGIN:VCALENDAR
VERSION:2.0
PRODID:-//Plone.org//NONSGML plone.app.event//EN
X-WR-TIMEZONE:Europe/Madrid
BEGIN:VEVENT
SUMMARY:Cuenta cuentos
DTSTART;TZID=Europe/Madrid:20260423T173000
DTEND;TZID=Europe/Madrid:20260423T190000
DTSTAMP:20260421T084042Z
UID:b4105959d4de4fa19b59559312ce6170@backend:8080
CONTACT:Debako kontalariak
CREATED:20260418T083425Z
LAST-MODIFIED:20260418T083430Z
LOCATION:Kultur elkartea
URL:http://backend:8080/Plone/es/actualidad/agenda/cuenta-cuentos-13
END:VEVENT
BEGIN:VTIMEZONE
TZID:Europe/Madrid
X-LIC-LOCATION:Europe/Madrid
BEGIN:DAYLIGHT
DTSTART:20260329T030000
TZNAME:CEST
TZOFFSETFROM:+0100
TZOFFSETTO:+0200
END:DAYLIGHT
END:VTIMEZONE
END:VCALENDAR
