BEGIN:VCALENDAR
VERSION:2.0
PRODID:-//Plone.org//NONSGML plone.app.event//EN
X-WR-TIMEZONE:Europe/Madrid
BEGIN:VEVENT
SUMMARY:Día del libro
DTSTART;TZID=Europe/Madrid:20260425T110000
DTEND;TZID=Europe/Madrid:20260425T130000
DTSTAMP:20260421T083335Z
UID:667349689252419f9cffd7f3847cd042@backend:8080
CONTACT:Kultur elkartea
CREATED:20260420T151034Z
LAST-MODIFIED:20260420T151038Z
LOCATION:Kultur elkartea
URL:http://backend:8080/Plone/es/actualidad/agenda/dia-del-libro-3
END:VEVENT
BEGIN:VTIMEZONE
TZID:Europe/Madrid
X-LIC-LOCATION:Europe/Madrid
BEGIN:DAYLIGHT
DTSTART:20260329T030000
TZNAME:CEST
TZOFFSETFROM:+0100
TZOFFSETTO:+0200
END:DAYLIGHT
END:VTIMEZONE
END:VCALENDAR
