BEGIN:VCALENDAR
VERSION:2.0
PRODID:-//Plone.org//NONSGML plone.app.event//EN
X-WR-TIMEZONE:Europe/Madrid
BEGIN:VEVENT
SUMMARY:Día del socio del Kultur elkartea
DTSTART;VALUE=DATE:20240511
DTEND;VALUE=DATE:20240512
DTSTAMP:20260421T091641Z
UID:f653ceb80e394d2c85e2d7e057933eb5@backend:8080
CONTACT:Kultur elkartea
CREATED:20240414T094653Z
LAST-MODIFIED:20240414T094656Z
LOCATION:Kultur elkartea
URL:http://backend:8080/Plone/es/actualidad/agenda/dia-del-socio-del-kultu
 r-elkartea
END:VEVENT
END:VCALENDAR
