BEGIN:VCALENDAR
VERSION:2.0
PRODID:-//Plone.org//NONSGML plone.app.event//EN
X-WR-TIMEZONE:Europe/Madrid
BEGIN:VEVENT
SUMMARY:Excursión montañera
DTSTART;TZID=Etc/GMT-2:20180526T000000
DTEND;TZID=Etc/GMT-2:20180527T000000
DTSTAMP:20260421T104530Z
UID:39bec84bf9b3409cbb7544068823a991@backend:8080
CONTACT:Burdin Kurutz M.T. y Luzaro ikastetxea
CREATED:20211217T131515Z
DESCRIPTION:Excursión de fin de semana
LAST-MODIFIED:20221219T094057Z
URL:http://backend:8080/Plone/es/actualidad/agenda/excursion-montanera-15
END:VEVENT
END:VCALENDAR
