BEGIN:VCALENDAR
VERSION:2.0
PRODID:-//Plone.org//NONSGML plone.app.event//EN
X-WR-TIMEZONE:Europe/Madrid
BEGIN:VEVENT
SUMMARY:Ciclo Musical de Verano: Trío Easo
DTSTART;TZID=Etc/GMT-2:20130801T203000
DTEND;TZID=Etc/GMT-2:20130801T213000
DTSTAMP:20260421T104840Z
UID:c5150754a4e4464b9d6aafeebae0e20f@backend:8080
CREATED:20211217T130821Z
DESCRIPTION:XXX Ciclo musical de Deba
LAST-MODIFIED:20221219T093919Z
LOCATION:Iglesia de Santa María
URL:http://backend:8080/Plone/es/actualidad/agenda/festival-internacional-
 de-folclore
END:VEVENT
END:VCALENDAR
