BEGIN:VCALENDAR
VERSION:2.0
PRODID:-//Plone.org//NONSGML plone.app.event//EN
X-WR-TIMEZONE:Europe/Madrid
BEGIN:VEVENT
SUMMARY:Fiestas de Asensio 2019\, en Endoia
DTSTART;TZID=Etc/GMT-2:20190530T000000
DTEND;TZID=Etc/GMT-2:20190602T235500
DTSTAMP:20260421T201402Z
UID:fdc372a51c284b2da32186330c2c2188@backend:8080
CONTACT:Gaztendoia\, Endoiako Auzo Elkartea
CREATED:20211217T132218Z
LAST-MODIFIED:20221219T094207Z
LOCATION:Endoia
URL:http://backend:8080/Plone/es/actualidad/agenda/fiestas-de-asensio-2019
 -en-endoia
END:VEVENT
END:VCALENDAR
