BEGIN:VCALENDAR
VERSION:2.0
PRODID:-//Plone.org//NONSGML plone.app.event//EN
X-WR-TIMEZONE:Europe/Madrid
BEGIN:VEVENT
SUMMARY:Fokupean: KABIA. Jone Bengoa
DTSTART;TZID=Europe/Madrid:20231112T120000
DTEND;TZID=Europe/Madrid:20231112T123000
DTSTAMP:20260421T093629Z
UID:79a6fa29ec8e49f3968f7007b2a61471@backend:8080
CREATED:20231106T105627Z
LAST-MODIFIED:20231106T124356Z
LOCATION:Hogar del jubilado de Deba
URL:http://backend:8080/Plone/es/actualidad/agenda/fokupean-kabia-jone-ben
 goa
END:VEVENT
BEGIN:VTIMEZONE
TZID:Europe/Madrid
X-LIC-LOCATION:Europe/Madrid
BEGIN:STANDARD
DTSTART:20231029T020000
TZNAME:CET
TZOFFSETFROM:+0200
TZOFFSETTO:+0100
END:STANDARD
END:VTIMEZONE
END:VCALENDAR
