BEGIN:VCALENDAR
VERSION:2.0
PRODID:-//Plone.org//NONSGML plone.app.event//EN
X-WR-TIMEZONE:Europe/Madrid
BEGIN:VEVENT
SUMMARY:Fútbol: Amaikak Bat
DTSTART;VALUE=DATE:20260425
DTEND;VALUE=DATE:20260427
DTSTAMP:20260423T163216Z
UID:637db37d7fe941e68f6f52b844791299@backend:8080
CONTACT:Amaikak Bat K.E\, https://amaikakbat.com/azken-berriak-2/
CREATED:20260423T094758Z
LAST-MODIFIED:20260423T094842Z
LOCATION:Errotazar futbol zelaia
URL:http://backend:8080/Plone/es/actualidad/agenda/futbol-amaikak-bat-1776
 937678.613705
END:VEVENT
END:VCALENDAR
