BEGIN:VCALENDAR
VERSION:2.0
PRODID:-//Plone.org//NONSGML plone.app.event//EN
X-WR-TIMEZONE:Europe/Madrid
BEGIN:VEVENT
SUMMARY:Fútbol: Amaikak Bat
DTSTART;TZID=Etc/GMT-1:20170107T000000
DTEND;TZID=Etc/GMT-1:20170108T000000
DTSTAMP:20260420T084904Z
UID:f6f5b5464e4d4ee397a31fa23e95252c@backend:8080
CONTACT:C.D. Amaikak Bat
CREATED:20211217T131353Z
LAST-MODIFIED:20221219T094040Z
URL:http://backend:8080/Plone/es/actualidad/agenda/futbol-amaikak-bat-42
END:VEVENT
END:VCALENDAR
