BEGIN:VCALENDAR
VERSION:2.0
PRODID:-//Plone.org//NONSGML plone.app.event//EN
X-WR-TIMEZONE:Europe/Madrid
BEGIN:VEVENT
SUMMARY:Labur-bira
DTSTART;TZID=Etc/GMT-1:20201226T000000
DTEND;TZID=Etc/GMT-1:20201226T000000
DTSTAMP:20260420T085341Z
UID:46328cf2d9464c89a37d0d2535d0df8a@backend:8080
CREATED:20211217T132410Z
LAST-MODIFIED:20221219T094237Z
LOCATION:Kultur Elkartea
URL:http://backend:8080/Plone/es/actualidad/agenda/labur-bira
END:VEVENT
END:VCALENDAR
