BEGIN:VCALENDAR
VERSION:2.0
PRODID:-//Plone.org//NONSGML plone.app.event//EN
X-WR-TIMEZONE:Europe/Madrid
BEGIN:VEVENT
SUMMARY:Película GAUA
DTSTART;TZID=Europe/Madrid:20260306T190000
DTEND;TZID=Europe/Madrid:20260306T203000
DTSTAMP:20260421T090911Z
UID:86c3d6ce96b94ac1bfb87004ae6078b7@backend:8080
CONTACT:https://www.deba.eus/es/actualidad/noticias/deba-se-suma-al-dia-in
 ternacional-de-la-mujer-con-un-programa-de-actividades-centrado-en-la-igua
 ldad-y-los-derechos-de-las-mujeres
CREATED:20260225T122625Z
LAST-MODIFIED:20260225T122631Z
LOCATION:Kultur elkartea
URL:http://backend:8080/Plone/es/actualidad/agenda/pelicula-gaua
END:VEVENT
BEGIN:VTIMEZONE
TZID:Europe/Madrid
X-LIC-LOCATION:Europe/Madrid
BEGIN:STANDARD
DTSTART:20251026T020000
TZNAME:CET
TZOFFSETFROM:+0200
TZOFFSETTO:+0100
END:STANDARD
END:VTIMEZONE
END:VCALENDAR
