BEGIN:VCALENDAR
VERSION:2.0
PRODID:-//Plone.org//NONSGML plone.app.event//EN
X-WR-TIMEZONE:Europe/Madrid
BEGIN:VEVENT
SUMMARY:Pelota: finales de pala
DTSTART;TZID=Etc/GMT-2:20200815T180000
DTEND;TZID=Etc/GMT-2:20200815T190000
DTSTAMP:20260421T165048Z
UID:e2d81711933b4aff9b56422384b94ccd@backend:8080
CREATED:20211217T132401Z
LAST-MODIFIED:20221219T094234Z
URL:http://backend:8080/Plone/es/actualidad/agenda/pelota-1
END:VEVENT
END:VCALENDAR
