BEGIN:VCALENDAR
VERSION:2.0
PRODID:-//Plone.org//NONSGML plone.app.event//EN
X-WR-TIMEZONE:Europe/Madrid
BEGIN:VEVENT
SUMMARY:POESIA DANTZAN
DTSTART;TZID=Etc/GMT-2:20140429T000000
DTEND;TZID=Etc/GMT-2:20140430T000000
DTSTAMP:20260421T085052Z
UID:2fc19ae1dbc6442b85b8bf2f5db2b395@backend:8080
CREATED:20211217T130918Z
DESCRIPTION:19:00
LAST-MODIFIED:20221219T093936Z
URL:http://backend:8080/Plone/es/actualidad/agenda/poesia-dantzan
END:VEVENT
END:VCALENDAR
