BEGIN:VCALENDAR
VERSION:2.0
PRODID:-//Plone.org//NONSGML plone.app.event//EN
X-WR-TIMEZONE:Europe/Madrid
BEGIN:VEVENT
SUMMARY:Salida de Montaña
DTSTART;TZID=Etc/GMT-2:20151025T000000
DTEND;TZID=Etc/GMT-2:20151025T000000
DTSTAMP:20260421T110110Z
UID:df9cbb958e5d4ffe8fd5eca81c68c071@backend:8080
CONTACT:Burdin Kurutz M. T.
CREATED:20211217T131106Z
DESCRIPTION:Larrun (subir en tren)
LAST-MODIFIED:20221219T094006Z
LOCATION:Larrun
URL:http://backend:8080/Plone/es/actualidad/agenda/salida-de-montana-15
END:VEVENT
END:VCALENDAR
