BEGIN:VCALENDAR
VERSION:2.0
PRODID:-//Plone.org//NONSGML plone.app.event//EN
X-WR-TIMEZONE:Europe/Madrid
BEGIN:VEVENT
SUMMARY:Semana de la Cooperación para el Desarrollo
DTSTART;TZID=Etc/GMT-2:20221007T083000
DTEND;TZID=Etc/GMT-2:20221020T093000
DTSTAMP:20260422T084300Z
UID:7284641655c44dae8fd51509dc5b3245@backend:8080
CONTACT:https://www.deba.eus/es/actualidad/noticias/actividades-diversas-e
 n-la-semana-de-cooperacion-para-el-desarrollo?set_language=es
CREATED:20221219T094304Z
DESCRIPTION:Este año se celebra el IV. Mercado solidario\, el 15 de octub
 re. Los grupos de cooperación locales informarán de sus proyectos y vend
 erán sus productos. El mercado se celebra en el contexto de la semana de 
 Cooperación para el desarrollo.
LAST-MODIFIED:20221219T094304Z
URL:http://backend:8080/Plone/es/actualidad/agenda/semana-de-la-cooperacio
 n-para-el-desarrollo
END:VEVENT
END:VCALENDAR
