BEGIN:VCALENDAR
VERSION:2.0
PRODID:-//Plone.org//NONSGML plone.app.event//EN
X-WR-TIMEZONE:Europe/Madrid
BEGIN:VEVENT
SUMMARY:Teatro: Bihotz salataria
DTSTART;TZID=Etc/GMT-1:20171201T213000
DTEND;TZID=Etc/GMT-1:20171201T230000
DTSTAMP:20260421T105504Z
UID:bbdf5649717c45e8b680fccd286d88cd@backend:8080
CREATED:20211217T131545Z
DESCRIPTION:Semana del euskera
LAST-MODIFIED:20221219T094103Z
LOCATION:Gaztetxe
URL:http://backend:8080/Plone/es/actualidad/agenda/teatro-bihotz-salataria
END:VEVENT
END:VCALENDAR
