BEGIN:VCALENDAR
VERSION:2.0
PRODID:-//Plone.org//NONSGML plone.app.event//EN
X-WR-TIMEZONE:Europe/Madrid
BEGIN:VEVENT
SUMMARY:Teatro en Lastur: INTXAURRA
DTSTART;TZID=Etc/GMT-1:20230128T220000
DTEND;TZID=Etc/GMT-1:20230128T233000
DTSTAMP:20260421T085400Z
UID:2cdd2e05eab2447cb2ada7630c31aaf0@backend:8080
CONTACT:https://www.deba.eus/eu/aktualitatea/barrun-giro
CREATED:20221219T094323Z
LAST-MODIFIED:20221219T094323Z
LOCATION:Lastur
URL:http://backend:8080/Plone/es/actualidad/agenda/teatro-en-lastur-intxau
 rra
END:VEVENT
END:VCALENDAR
