BEGIN:VCALENDAR
VERSION:2.0
PRODID:-//Plone.org//NONSGML plone.app.event//EN
X-WR-TIMEZONE:Europe/Madrid
BEGIN:VEVENT
SUMMARY:Tienda de comercio justo
DTSTART;TZID=Etc/GMT-2:20160910T110000
DTEND;TZID=Etc/GMT-2:20160911T150000
DTSTAMP:20260421T150550Z
UID:f6bf16b86884444abfd980da30b06fd2@backend:8080
CREATED:20211217T131315Z
LAST-MODIFIED:20221219T094031Z
LOCATION:Arcos del Ayuntamiento
URL:http://backend:8080/Plone/es/actualidad/agenda/tienda-de-comercio-just
 o-2
END:VEVENT
END:VCALENDAR
