BEGIN:VCALENDAR
VERSION:2.0
PRODID:-//Plone.org//NONSGML plone.app.event//EN
X-WR-TIMEZONE:Europe/Madrid
BEGIN:VEVENT
SUMMARY:TREBA gurasoak: Cómo crear entornos seguros para minimizar situac
 iones de bullying
DTSTART;TZID=Europe/Madrid:20251023T180000
DTEND;TZID=Europe/Madrid:20251023T193000
DTSTAMP:20260421T105935Z
UID:29e83d8efbe54fd09ccc7fb69570400f@backend:8080
CONTACT:943192840\, kultura@deba.eus\, https://www.deba.eus/es/actualidad/
 noticias/deba-acoge-la-charla-bullying-egoerak-minimizatzeko-inguru-seguru
 ak-nola-sortu-el-23-de-octubre-en-el-marco-del-programa-treba-gurasoak
CREATED:20251017T114316Z
LAST-MODIFIED:20251017T114346Z
LOCATION:Salón de los espejos del palacio Agirre
URL:http://backend:8080/Plone/es/actualidad/agenda/treba-gurasoak-como-cre
 ar-entornos-seguros-para-minimizar-situaciones-de-bullying
END:VEVENT
BEGIN:VTIMEZONE
TZID:Europe/Madrid
X-LIC-LOCATION:Europe/Madrid
BEGIN:DAYLIGHT
DTSTART:20250330T030000
TZNAME:CEST
TZOFFSETFROM:+0100
TZOFFSETTO:+0200
END:DAYLIGHT
END:VTIMEZONE
END:VCALENDAR
