BEGIN:VCALENDAR
VERSION:2.0
PRODID:-//Plone.org//NONSGML plone.app.event//EN
X-WR-TIMEZONE:Europe/Madrid
BEGIN:VEVENT
SUMMARY:UR (H)ONDOA GARDEN
DTSTART;TZID=Etc/GMT-2:20220821T173000
DTEND;TZID=Etc/GMT-2:20220821T203000
DTSTAMP:20260421T085115Z
UID:b6e81f3e03f54fefbbb095b1d7f7e7e8@backend:8080
CREATED:20221219T094252Z
DESCRIPTION:Visitas guiadas en julio y agosto para conocer la biodiversida
 d de la playa de Deba (duna y zona intermareal). \n\n1.30 horas. Dos visit
 as consecutivas\, la primera en euskara y la segunda en castellano. \n\nIn
 scripción previa (basta con hacerlo el mismo día) en la oficina de turis
 mo\, en el teléfono 943192452)\, o en la dirección turismoa@deba.eus
LAST-MODIFIED:20221219T094252Z
LOCATION:Ballena Vasca del Paseo Cárdenas (frente al Bar Ondargain)
URL:http://backend:8080/Plone/es/actualidad/agenda/ur-h-ondoa-garden
END:VEVENT
END:VCALENDAR
