BEGIN:VCALENDAR
VERSION:2.0
PRODID:-//Plone.org//NONSGML plone.app.event//EN
X-WR-TIMEZONE:Europe/Madrid
BEGIN:VEVENT
SUMMARY:Urrezko Aizkora
DTSTART;TZID=Etc/GMT-1:20150104T120000
DTEND;TZID=Etc/GMT-1:20150104T150000
DTSTAMP:20260421T091019Z
UID:a1d1d083d2bc44ee8b523d93bc86eaa6@backend:8080
CREATED:20211217T131007Z
LAST-MODIFIED:20221219T093950Z
URL:http://backend:8080/Plone/es/actualidad/agenda/urrezko-aizkora
END:VEVENT
END:VCALENDAR
