BEGIN:VCALENDAR
VERSION:2.0
PRODID:-//Plone.org//NONSGML plone.app.event//EN
X-WR-TIMEZONE:Europe/Madrid
BEGIN:VEVENT
SUMMARY:VI. Travesía a nado Flysch beltza
DTSTART;TZID=Etc/GMT-2:20190921T100000
DTEND;TZID=Etc/GMT-2:20190921T130000
DTSTAMP:20260425T012530Z
UID:2f97fb78bf7e41ad8070327bb6d7dda7@backend:8080
CONTACT:https://flyschbeltzatrabesia.wordpress.com/
CREATED:20211217T132243Z
DESCRIPTION:Saturraran-Mutriku-Deba
LAST-MODIFIED:20221219T094214Z
URL:http://backend:8080/Plone/es/actualidad/agenda/vi-travesia-a-nado-flys
 ch-beltza
END:VEVENT
END:VCALENDAR
