BEGIN:VCALENDAR
VERSION:2.0
PRODID:-//Plone.org//NONSGML plone.app.event//EN
X-WR-TIMEZONE:Europe/Madrid
BEGIN:VEVENT
SUMMARY:Visita guiada: joya del Gótico en Deba
DTSTART;TZID=Europe/Madrid:20240808T170000
DTEND;TZID=Europe/Madrid:20240808T183000
DTSTAMP:20260423T220048Z
UID:b1be8a5e5a0842df9014db25759d813b@backend:8080
CONTACT:Geoparkea\, 943192452\, turismoa@deba.eus\, https://geoparkea.eus/
 es/visitas-guiadas/joya-gotico-deba
CREATED:20240628T100152Z
LAST-MODIFIED:20240628T100204Z
LOCATION:Oficina de turismo de Deba (Ifar kalea 4)
URL:http://backend:8080/Plone/es/actualidad/agenda/visita-guiada-joya-del-
 gotico-en-deba-36
END:VEVENT
BEGIN:VTIMEZONE
TZID:Europe/Madrid
X-LIC-LOCATION:Europe/Madrid
BEGIN:DAYLIGHT
DTSTART:20240331T030000
TZNAME:CEST
TZOFFSETFROM:+0100
TZOFFSETTO:+0200
END:DAYLIGHT
END:VTIMEZONE
END:VCALENDAR
