BEGIN:VCALENDAR
VERSION:2.0
PRODID:-//Plone.org//NONSGML plone.app.event//EN
X-WR-TIMEZONE:Europe/Madrid
BEGIN:VEVENT
SUMMARY:Xake Festa Deba 2025
DTSTART;TZID=Europe/Madrid:20250719T100000
DTEND;TZID=Europe/Madrid:20250719T140000
DTSTAMP:20260421T105335Z
UID:4d0a7dd8f2ab4c208f6b1da80601f059@backend:8080
CONTACT:https://www.deba.eus/es/actualidad/noticias/deba-celebrara-la-fies
 ta-del-ajedrez-el-19-de-julio
CREATED:20250705T113228Z
LAST-MODIFIED:20250718T122925Z
LOCATION:Frontón Aldats
URL:http://backend:8080/Plone/es/actualidad/agenda/xake-festa-deba-2025
END:VEVENT
BEGIN:VTIMEZONE
TZID:Europe/Madrid
X-LIC-LOCATION:Europe/Madrid
BEGIN:DAYLIGHT
DTSTART:20250330T030000
TZNAME:CEST
TZOFFSETFROM:+0100
TZOFFSETTO:+0200
END:DAYLIGHT
END:VTIMEZONE
END:VCALENDAR
