BEGIN:VCALENDAR
VERSION:2.0
PRODID:-//Plone.org//NONSGML plone.app.event//EN
X-WR-TIMEZONE:Europe/Madrid
BEGIN:VEVENT
SUMMARY:2014ko Lur Gaineko Euskadiko Sokatira Txapelketa
DTSTART;TZID=Etc/GMT-2:20140726T173000
DTEND;TZID=Etc/GMT-2:20140726T193000
DTSTAMP:20260421T085840Z
UID:b9a9a142da994dffbcafeee8000b4ef5@backend:8080
CREATED:20211217T123208Z
LAST-MODIFIED:20221219T092932Z
LOCATION:Zumardian
URL:http://backend:8080/Plone/eu/aktualitatea/agenda/2014ko-lur-gaineko-eu
 skadiko-sokatira-txapelketa
END:VEVENT
END:VCALENDAR
