BEGIN:VCALENDAR
VERSION:2.0
PRODID:-//Plone.org//NONSGML plone.app.event//EN
X-WR-TIMEZONE:Europe/Madrid
BEGIN:VEVENT
SUMMARY:Antzerkia: Bihotz salataria
DTSTART;TZID=Etc/GMT-1:20171201T213000
DTEND;TZID=Etc/GMT-1:20171201T230000
DTSTAMP:20260421T085245Z
UID:c878ecc5194946aa92fe713c6b178603@backend:8080
CREATED:20211217T123504Z
DESCRIPTION:Euskararen astea
LAST-MODIFIED:20221219T093101Z
LOCATION:Gaztetxea
URL:http://backend:8080/Plone/eu/aktualitatea/agenda/antzerkia-bihotz-sala
 taria
END:VEVENT
END:VCALENDAR
