BEGIN:VCALENDAR
VERSION:2.0
PRODID:-//Plone.org//NONSGML plone.app.event//EN
X-WR-TIMEZONE:Europe/Madrid
BEGIN:VEVENT
SUMMARY:Asentzio jaiak 2019\, Endoian
DTSTART;TZID=Etc/GMT-2:20190530T000000
DTEND;TZID=Etc/GMT-2:20190602T235500
DTSTAMP:20260421T181335Z
UID:c25979bbdb484f80b691abef94d1e7c3@backend:8080
CONTACT:Gaztendoia\, Endoiako Auzo Elkartea
CREATED:20211217T123748Z
LAST-MODIFIED:20221219T093207Z
LOCATION:Endoia
URL:http://backend:8080/Plone/eu/aktualitatea/agenda/asentzio-jaiak-2019-e
 ndoian
END:VEVENT
END:VCALENDAR
