BEGIN:VCALENDAR
VERSION:2.0
PRODID:-//Plone.org//NONSGML plone.app.event//EN
X-WR-TIMEZONE:Europe/Madrid
BEGIN:VEVENT
SUMMARY:Asteazken akustikoak: Neu
DTSTART;TZID=Europe/Madrid:20250716T200000
DTEND;TZID=Europe/Madrid:20250716T220000
DTSTAMP:20260421T085202Z
UID:f942333ffcec4a79974ef9feab659028@backend:8080
CONTACT:Debako Gazte Asanblada
CREATED:20250705T112254Z
LAST-MODIFIED:20250705T112258Z
LOCATION:Gaztetxea
URL:http://backend:8080/Plone/eu/aktualitatea/agenda/asteazken-akustikoak-
 neu-1
END:VEVENT
BEGIN:VTIMEZONE
TZID:Europe/Madrid
X-LIC-LOCATION:Europe/Madrid
BEGIN:DAYLIGHT
DTSTART:20250330T030000
TZNAME:CEST
TZOFFSETFROM:+0100
TZOFFSETTO:+0200
END:DAYLIGHT
END:VTIMEZONE
END:VCALENDAR
