BEGIN:VCALENDAR
VERSION:2.0
PRODID:-//Plone.org//NONSGML plone.app.event//EN
X-WR-TIMEZONE:Europe/Madrid
BEGIN:VEVENT
SUMMARY:Bidezko merkataritzako denda
DTSTART;TZID=Etc/GMT-2:20160910T110000
DTEND;TZID=Etc/GMT-2:20160911T150000
DTSTAMP:20260421T091052Z
UID:ea0a716180b44e6fa55afc627c80d03f@backend:8080
CREATED:20211217T123347Z
LAST-MODIFIED:20221219T093022Z
LOCATION:Udaletxeko arkupetan
URL:http://backend:8080/Plone/eu/aktualitatea/agenda/bidezko-merkataritzak
 o-denda-2
END:VEVENT
END:VCALENDAR
