BEGIN:VCALENDAR
VERSION:2.0
PRODID:-//Plone.org//NONSGML plone.app.event//EN
X-WR-TIMEZONE:Europe/Madrid
BEGIN:VEVENT
SUMMARY:Bisita gidatua: Lastur familian
DTSTART;TZID=Europe/Madrid:20240420T110000
DTEND;TZID=Europe/Madrid:20240420T123000
DTSTAMP:20260421T091830Z
UID:cb96820cde9f4183a8b433cf21b72808@backend:8080
CONTACT:Geoparkea\, 943192452\, turismoa@deba.eus\, https://labur.eus/rfPV
 E
CREATED:20240331T104942Z
LAST-MODIFIED:20240331T105104Z
LOCATION:San Nikolas plaza\, Lastur (Deba)
URL:http://backend:8080/Plone/eu/aktualitatea/agenda/bisita-gidatua-lastur
 -familian-14
END:VEVENT
BEGIN:VTIMEZONE
TZID:Europe/Madrid
X-LIC-LOCATION:Europe/Madrid
BEGIN:DAYLIGHT
DTSTART:20240331T030000
TZNAME:CEST
TZOFFSETFROM:+0100
TZOFFSETTO:+0200
END:DAYLIGHT
END:VTIMEZONE
END:VCALENDAR
