BEGIN:VCALENDAR
VERSION:2.0
PRODID:-//Plone.org//NONSGML plone.app.event//EN
X-WR-TIMEZONE:Europe/Madrid
BEGIN:VEVENT
SUMMARY:Saskibaloia: Debasket
DTSTART;VALUE=DATE:20260425
DTEND;VALUE=DATE:20260427
DTSTAMP:20260423T145918Z
UID:35c64678163740b4acdeeee127aa6229@backend:8080
CONTACT:Debasket Saskibaloi kluba\, http://debasket.eus
CREATED:20260108T102435Z
LAST-MODIFIED:20260423T094414Z
LOCATION:Debako udal kiroldegia
URL:http://backend:8080/Plone/eu/aktualitatea/agenda/copy12_of_saskibaloia
 -debasket-94
END:VEVENT
END:VCALENDAR
