BEGIN:VCALENDAR
VERSION:2.0
PRODID:-//Plone.org//NONSGML plone.app.event//EN
X-WR-TIMEZONE:Europe/Madrid
BEGIN:VEVENT
SUMMARY:Bisita gidatua: gotikoaren altxorra Deban
DTSTART;TZID=Europe/Madrid:20240808T170000
DTEND;TZID=Europe/Madrid:20240808T183000
DTSTAMP:20260423T233113Z
UID:ef2a8edf6d66460c8532b6c49edb9810@backend:8080
CONTACT:Geoparkea\, 943192452\, turismoa@deba.eus\, https://geoparkea.eus/
 eu/bisita-gidatuak/gotikoaren-altxorra-deban?id=13026
CREATED:20240628T095022Z
LAST-MODIFIED:20240628T100047Z
LOCATION:Debako turismo bulegoa (Ifar kalea 4)
URL:http://backend:8080/Plone/eu/aktualitatea/agenda/copy2_of_bisita-gidat
 ua-gotikoaren-altxorra-deban-19
END:VEVENT
BEGIN:VTIMEZONE
TZID:Europe/Madrid
X-LIC-LOCATION:Europe/Madrid
BEGIN:DAYLIGHT
DTSTART:20240331T030000
TZNAME:CEST
TZOFFSETFROM:+0100
TZOFFSETTO:+0200
END:DAYLIGHT
END:VTIMEZONE
END:VCALENDAR
