BEGIN:VCALENDAR
VERSION:2.0
PRODID:-//Plone.org//NONSGML plone.app.event//EN
X-WR-TIMEZONE:Europe/Madrid
BEGIN:VEVENT
SUMMARY:Futbola: Amaikak Bat
DTSTART;TZID=Etc/GMT-2:20141025T000000
DTEND;TZID=Etc/GMT-1:20141026T230000
DTSTAMP:20260421T085115Z
UID:193c4b00c9b64f738ecac79133aed8d4@backend:8080
CONTACT:http://www.amaikakbat.com/eu/index.php#
CREATED:20211217T123217Z
LAST-MODIFIED:20221219T092937Z
URL:http://backend:8080/Plone/eu/aktualitatea/agenda/copy5_of_futbola-jube
 nilak
END:VEVENT
END:VCALENDAR
