BEGIN:VCALENDAR
VERSION:2.0
PRODID:-//Plone.org//NONSGML plone.app.event//EN
X-WR-TIMEZONE:Europe/Madrid
BEGIN:VEVENT
SUMMARY:Bastiñuixan
DTSTART;TZID=Europe/Madrid:20250307T163000
DTEND;TZID=Europe/Madrid:20250307T183000
DTSTAMP:20260421T084946Z
UID:06ab396c355847889173b6b9edba6d16@backend:8080
RRULE:FREQ=WEEKLY;UNTIL=20250328T000000Z;INTERVAL=1;BYDAY=FR
CONTACT:Debako Udala
CREATED:20250301T123019Z
LAST-MODIFIED:20250303T092007Z
LOCATION:Zumardiko kioskoa
URL:http://backend:8080/Plone/eu/aktualitatea/agenda/copy_of_bastinuixan
END:VEVENT
BEGIN:VTIMEZONE
TZID:Europe/Madrid
X-LIC-LOCATION:Europe/Madrid
BEGIN:STANDARD
DTSTART:20241027T020000
TZNAME:CET
TZOFFSETFROM:+0200
TZOFFSETTO:+0100
END:STANDARD
END:VTIMEZONE
END:VCALENDAR
