BEGIN:VCALENDAR
VERSION:2.0
PRODID:-//Plone.org//NONSGML plone.app.event//EN
X-WR-TIMEZONE:Europe/Madrid
BEGIN:VEVENT
SUMMARY:Futbola: Amaikak Bat
DTSTART;VALUE=DATE:20260425
DTEND;VALUE=DATE:20260427
DTSTAMP:20260423T145748Z
UID:85286bc0f1914d649f6d37d6834a9da2@backend:8080
CONTACT:Amaikak Bat K.E.\, http://www.amaikakbat.com/es/index.php
CREATED:20260319T092531Z
LAST-MODIFIED:20260423T094639Z
LOCATION:Errotazar futbol zelaia
URL:http://backend:8080/Plone/eu/aktualitatea/agenda/copy_of_futbola-amaik
 ak-bat-1773912331.7353122
END:VEVENT
END:VCALENDAR
