BEGIN:VCALENDAR
VERSION:2.0
PRODID:-//Plone.org//NONSGML plone.app.event//EN
X-WR-TIMEZONE:Europe/Madrid
BEGIN:VEVENT
SUMMARY:XXX. Deba Txirrindularitza Saria
DTSTART;TZID=Etc/GMT-1:20190323T104500
DTEND;TZID=Etc/GMT-1:20190323T123000
DTSTAMP:20260422T172654Z
UID:902d7fe5ecf040288a588a7a6c70e366@backend:8080
CONTACT:Amaikak Bat T.T.
CREATED:20211217T123712Z
DESCRIPTION:1. eta 2. urteko kadeteen lasterketa
LAST-MODIFIED:20221219T093154Z
LOCATION:Deba
URL:http://backend:8080/Plone/eu/aktualitatea/agenda/deba-xxx-txirrindular
 itza-saria
END:VEVENT
END:VCALENDAR
