BEGIN:VCALENDAR
VERSION:2.0
PRODID:-//Plone.org//NONSGML plone.app.event//EN
X-WR-TIMEZONE:Europe/Madrid
BEGIN:VEVENT
SUMMARY:ERNIO- umeentzeko mendi irteera
DTSTART;TZID=Etc/GMT-1:20131124T080000
DTEND;TZID=Etc/GMT-1:20131124T180000
DTSTAMP:20260421T091236Z
UID:b8cddb971fbe441fb7f2c307a2153fc5@backend:8080
CREATED:20211217T123137Z
DESCRIPTION:Burdin Kurutzek Erniorako irteera antolatu du herriko ume eta 
 gurasoentzat. Egun osoko irteera. Bertaratu nahi duenak izena eman beharko
  du\, Azoka dendan\, azaroaren 21a baino lehen. 
LAST-MODIFIED:20221219T092918Z
URL:http://backend:8080/Plone/eu/aktualitatea/agenda/ernio-umeentzeko-mend
 i-irteera
END:VEVENT
END:VCALENDAR
