BEGIN:VCALENDAR
VERSION:2.0
PRODID:-//Plone.org//NONSGML plone.app.event//EN
X-WR-TIMEZONE:Europe/Madrid
BEGIN:VEVENT
SUMMARY:Futbola: Amaikak Bat
DTSTART;VALUE=DATE:20250501
DTEND;VALUE=DATE:20250505
DTSTAMP:20260421T085539Z
UID:9fa1f54413194b9aadb2a79ca3449f2b@backend:8080
CONTACT:Amaikak Bat K.E.\, http://www.amaikakbat.com/es/index.php
CREATED:20250430T092812Z
LAST-MODIFIED:20250430T092841Z
LOCATION:Errotazar futbol zelaia
URL:http://backend:8080/Plone/eu/aktualitatea/agenda/futbola-amaikak-bat-1
 746005293.1860044
END:VEVENT
END:VCALENDAR
