BEGIN:VCALENDAR
VERSION:2.0
PRODID:-//Plone.org//NONSGML plone.app.event//EN
X-WR-TIMEZONE:Europe/Madrid
BEGIN:VEVENT
SUMMARY:Garapenerako Lankidetzaren astea
DTSTART;TZID=Etc/GMT-2:20221007T083000
DTEND;TZID=Etc/GMT-2:20221020T093000
DTSTAMP:20260420T084829Z
UID:91eb85e19ab54eb2869d9d63630afcc9@backend:8080
CONTACT:https://www.deba.eus/eu/aktualitatea/albisteak/askotariko-ekimenak
 -garapenerako-lankidetzaren-astean
CREATED:20221219T093310Z
DESCRIPTION:Aurten IV. Elkartasun azoka egingo da urriaren 15ean. Herriko 
 kooperazio taldeek haien proiektuen berri eman\, eta produktuak salduko di
 tuzte. Garapenerako lankidetzaren astearen testuinguruan egingo da azoka.\
 n
LAST-MODIFIED:20221219T093310Z
URL:http://backend:8080/Plone/eu/aktualitatea/agenda/garapenerako-lankidet
 zaren-astea
END:VEVENT
END:VCALENDAR
