BEGIN:VCALENDAR
VERSION:2.0
PRODID:-//Plone.org//NONSGML plone.app.event//EN
X-WR-TIMEZONE:Europe/Madrid
BEGIN:VEVENT
SUMMARY:Garikoitz Mendizabal eta Debako Musika Banda
DTSTART;TZID=Etc/GMT-2:20140517T130000
DTEND;TZID=Etc/GMT-2:20140517T140000
DTSTAMP:20260421T091330Z
UID:5b1fa41602b54bd6b671e700b13180e1@backend:8080
CREATED:20211217T123157Z
LAST-MODIFIED:20221219T092928Z
LOCATION:Elizako klaustroan
URL:http://backend:8080/Plone/eu/aktualitatea/agenda/garikoitz-mendizabal-
 eta-debako-musika-banda
END:VEVENT
END:VCALENDAR
