BEGIN:VCALENDAR
VERSION:2.0
PRODID:-//Plone.org//NONSGML plone.app.event//EN
X-WR-TIMEZONE:Europe/Madrid
BEGIN:VEVENT
SUMMARY:Gazteentzako A25eko QR gynkana
DTSTART;VALUE=DATE:20241119
DTEND;VALUE=DATE:20241127
DTSTAMP:20260420T085302Z
UID:a038cdac7d92409f8682e3852da66fcc@backend:8080
CONTACT:Debako Udala\, https://www.deba.eus/eu/aktualitatea/albisteak/azar
 oaren-25aren-harira-ekintza-egitarau-zabala-antolatu-du-debako-udalak-gene
 ro-indarkeriari-aurre-egiteko-konpromisoa-berretsiz
CREATED:20241117T105447Z
LAST-MODIFIED:20241117T105458Z
LOCATION:Debako kaleetan
URL:http://backend:8080/Plone/eu/aktualitatea/agenda/gazteentzako-a25eko-q
 r-gynkana
END:VEVENT
END:VCALENDAR
