BEGIN:VCALENDAR
VERSION:2.0
PRODID:-//Plone.org//NONSGML plone.app.event//EN
X-WR-TIMEZONE:Europe/Madrid
BEGIN:VEVENT
SUMMARY:Hitzaldia: arkeo-esploratzaileen abenturak Debabarrenetik
DTSTART;TZID=Etc/GMT-1:20181122T190000
DTEND;TZID=Etc/GMT-1:20181122T200000
DTSTAMP:20260421T085923Z
UID:4ca04d39c48f43e7a78407368e461f4b@backend:8080
ATTENDEE;CN="Juan Mari Arruabarrena";ROLE=REQ-PARTICIPANT:Juan Mari Arruab
 arrena
CREATED:20211217T123644Z
DESCRIPTION:Debabarreneko Historiaurreko I. Jardunaldiak
LAST-MODIFIED:20221219T093143Z
URL:http://backend:8080/Plone/eu/aktualitatea/agenda/hitzaldia-arkeo-esplo
 ratzaileen-abenturak-debabarrenetik
END:VEVENT
END:VCALENDAR
