BEGIN:VCALENDAR
VERSION:2.0
PRODID:-//Plone.org//NONSGML plone.app.event//EN
X-WR-TIMEZONE:Europe/Madrid
BEGIN:VEVENT
SUMMARY:Hitzaldia: bizitzaz haratago zaintzea
DTSTART;TZID=Europe/Madrid:20260219T110000
DTEND;TZID=Europe/Madrid:20260219T130000
DTSTAMP:20260420T102332Z
UID:4b3c8246324f42f3a428668f82bbf6b0@backend:8080
CONTACT:Arbil elkarte soziala
CREATED:20260212T102052Z
LAST-MODIFIED:20260212T102056Z
LOCATION:Arbil elkarte soziala
URL:http://backend:8080/Plone/eu/aktualitatea/agenda/hitzaldia-bizitzaz-ha
 ratago-zaintzea
END:VEVENT
BEGIN:VTIMEZONE
TZID:Europe/Madrid
X-LIC-LOCATION:Europe/Madrid
BEGIN:STANDARD
DTSTART:20251026T020000
TZNAME:CET
TZOFFSETFROM:+0200
TZOFFSETTO:+0100
END:STANDARD
END:VTIMEZONE
END:VCALENDAR
