BEGIN:VCALENDAR
VERSION:2.0
PRODID:-//Plone.org//NONSGML plone.app.event//EN
X-WR-TIMEZONE:Europe/Madrid
BEGIN:VEVENT
SUMMARY:Iturri ondoan: MURSEGO
DTSTART;TZID=Etc/GMT-2:20140912T213000
DTEND;TZID=Etc/GMT-2:20140912T223000
DTSTAMP:20260419T102709Z
UID:85969c64d9c2479c9c78aa1ecaf43641@backend:8080
CONTACT:Amaia Zinkunegi\, 943608048
CREATED:20211217T123204Z
DESCRIPTION:Pop musika zentzurik zabalenean. Hizkuntza desberdinetako hots
 ak nahasten ditu Maitek HIRU azken diskoan. Baita cumbia eta poesia \, tek
 no-punkarekin ere.
LAST-MODIFIED:20221219T092931Z
LOCATION:Santa Maria Elizataria
URL:http://backend:8080/Plone/eu/aktualitatea/agenda/kontzertua-mursego
END:VEVENT
END:VCALENDAR
